BEGIN:VCALENDAR
PRODID:-//kirchenweb.ch gmbh//veranstaltungsausgabe v2.0//DE
VERSION:2.0
METHOD:PUBLISH
BEGIN:VEVENT
DTSTART:20260624T060000Z
DTEND:20260624T180000Z
LOCATION:Haute-Birse\, Eglise de Chaindon\, Route de Chaindon\, 2732
  Reconvilier
TRANSP:OPAQUE
SEQUENCE:0
UID:17407-veranstaltung@par8.ch
DTSTAMP:20260331T065407Z
DESCRIPTION:Kontakt: Mme Catherine Wittmer\n032 941 23 51\n\nWeitere
  Infos: https://www.par8.ch/veranstaltung/17407
SUMMARY:Haute-Birse\, Audition école de musique\, concert de piano
PRIORITY:5
X-MICROSOFT-CDO-IMPORTANCE:1
CLASS:PUBLIC
END:VEVENT
END:VCALENDAR
