BEGIN:VCALENDAR
PRODID:-//kirchenweb.ch gmbh//veranstaltungsausgabe v2.0//DE
VERSION:2.0
METHOD:PUBLISH
BEGIN:VEVENT
DTSTART:20260614T120000Z
DTEND:20260614T180000Z
LOCATION:Haute-Birse\, Eglise de Chaindon\, Route de Chaindon\, 2732
  Reconvilier
TRANSP:OPAQUE
SEQUENCE:0
UID:17396-veranstaltung@par8.ch
DTSTAMP:20260417T073915Z
DESCRIPTION:Concert avec collecte à la sortie\n\n\nKontakt: Mme Laure
  Devaux Allisson\n076 438 02 09\n\nWeitere Infos:
  https://www.par8.ch/veranstaltung/17396
SUMMARY:Haute-Birse\, Concert ensemble vocal Vocaltitude\, le Choeur des
  montagnes jurassiennes
PRIORITY:5
X-MICROSOFT-CDO-IMPORTANCE:1
CLASS:PUBLIC
END:VEVENT
END:VCALENDAR
