BEGIN:VCALENDAR
PRODID:-//kirchenweb.ch gmbh//veranstaltungsausgabe v2.0//DE
VERSION:2.0
METHOD:PUBLISH
BEGIN:VEVENT
DTSTART:20260604T040000Z
DTEND:20260604T200000Z
LOCATION:Haute-Birse\, Maison de Paroisse de Tavannes\, Rue du Petit-Bâle
  25\, 2710 Tavannes
TRANSP:OPAQUE
SEQUENCE:0
UID:17387-veranstaltung@par8.ch
DTSTAMP:20260324T113317Z
DESCRIPTION:Kontakt: Lucas Goffinet\n\nWeitere Infos:
  https://www.par8.ch/veranstaltung/17387
SUMMARY:Résidence musicale The Woodgies
PRIORITY:5
X-MICROSOFT-CDO-IMPORTANCE:1
CLASS:PUBLIC
END:VEVENT
END:VCALENDAR
