BEGIN:VCALENDAR
PRODID:-//kirchenweb.ch gmbh//veranstaltungsausgabe v2.0//DE
VERSION:2.0
METHOD:PUBLISH
BEGIN:VEVENT
DTSTART:20260519T040000Z
DTEND:20260519T200000Z
LOCATION:Haute-Birse\, Salle de Paroisse\, Rue Bel-Air 11\, 2732
  Reconvilier
TRANSP:OPAQUE
SEQUENCE:0
UID:17385-veranstaltung@par8.ch
DTSTAMP:20260324T112706Z
DESCRIPTION:Kontakt: lucas.goffinet@par8.ch\n\nWeitere Infos:
  https://www.par8.ch/veranstaltung/17385
SUMMARY:Résidence musicale Woodgies
PRIORITY:5
X-MICROSOFT-CDO-IMPORTANCE:1
CLASS:PUBLIC
END:VEVENT
END:VCALENDAR
