BEGIN:VCALENDAR
PRODID:-//kirchenweb.ch gmbh//veranstaltungsausgabe v2.0//DE
VERSION:2.0
METHOD:PUBLISH
BEGIN:VEVENT
DTSTART:20260605T160000Z
DTEND:20260605T210000Z
LOCATION:Haute-Birse\, Eglise de Chaindon\, Route de Chaindon\, 2732
  Reconvilier
TRANSP:OPAQUE
SEQUENCE:0
UID:17374-veranstaltung@par8.ch
DTSTAMP:20260414T073638Z
DESCRIPTION:Kontakt: Lucas Goffinet\n\nWeitere Infos:
  https://www.par8.ch/veranstaltung/17374
SUMMARY:Concert the Woodgies
PRIORITY:5
X-MICROSOFT-CDO-IMPORTANCE:1
CLASS:PUBLIC
END:VEVENT
END:VCALENDAR
