BEGIN:VCALENDAR
PRODID:-//kirchenweb.ch gmbh//veranstaltungsausgabe v2.0//DE
VERSION:2.0
METHOD:PUBLISH
BEGIN:VEVENT
DTSTART:20271219T100000Z
DTEND:20271219T110000Z
LOCATION:Court\, Eglise\, Rue du Temple\, 2738 Court
TRANSP:OPAQUE
SEQUENCE:0
UID:17364-veranstaltung@par8.ch
DTSTAMP:20260318T095126Z
DESCRIPTION:Le CP en commun du 23.02.2026 a décidé de bloquer cette date
  et de ne pas louer le temple à la famille Känzig qui a été avisée.\n
 \nCette date est réservée pour le Noël des familles. Ce culte est
  prévu pour le cycle I avec Olivier Jordi.\n\nKontakt: Sandra
  Schneeberger\n\nWeitere Infos: https://www.par8.ch/veranstaltung/17364
SUMMARY:Court\, temple
PRIORITY:5
X-MICROSOFT-CDO-IMPORTANCE:1
CLASS:PUBLIC
END:VEVENT
END:VCALENDAR
