BEGIN:VCALENDAR
PRODID:-//kirchenweb.ch gmbh//veranstaltungsausgabe v2.0//DE
VERSION:2.0
METHOD:PUBLISH
BEGIN:VEVENT
DTSTART:20260401T170000Z
DTEND:20260401T174500Z
LOCATION:Moutier\, Collégiale St Germain\, Ruelle du Château\, 2740
  Moutier
TRANSP:OPAQUE
SEQUENCE:0
UID:17357-veranstaltung@par8.ch
DTSTAMP:20260316T084901Z
DESCRIPTION:Paroles & Musique "transgression"\nDaniel Marquis et Mikelé
  Welmedehiret\nOrgue & krar\n\nKontakt: nadine.linder@par8.ch\n\nWeitere
  Infos: https://www.par8.ch/veranstaltung/17357
SUMMARY:Moutier - Montée vers Pâques
PRIORITY:5
X-MICROSOFT-CDO-IMPORTANCE:1
CLASS:PUBLIC
END:VEVENT
END:VCALENDAR
