BEGIN:VCALENDAR
PRODID:-//kirchenweb.ch gmbh//veranstaltungsausgabe v2.0//DE
VERSION:2.0
METHOD:PUBLISH
BEGIN:VEVENT
DTSTART:20260414T170000Z
DTEND:20260414T210000Z
LOCATION:Grandval\, Salle de Paroisse\, Rue de l'Eglise 13\, 2745 Grandval
TRANSP:OPAQUE
SEQUENCE:0
UID:17283-veranstaltung@par8.ch
DTSTAMP:20260305T085957Z
DESCRIPTION:Kontakt: Corinne Flückiger\n\nWeitere Infos:
  https://www.par8.ch/veranstaltung/17283
SUMMARY:C8
PRIORITY:5
X-MICROSOFT-CDO-IMPORTANCE:1
CLASS:PUBLIC
END:VEVENT
END:VCALENDAR
