BEGIN:VCALENDAR
PRODID:-//kirchenweb.ch gmbh//veranstaltungsausgabe v2.0//DE
VERSION:2.0
METHOD:PUBLISH
BEGIN:VEVENT
DTSTART:20260830T070000Z
DTEND:20260830T100000Z
LOCATION:Haute-Birse\, Eglise de Tavannes\, Rue du Petit-Bâle\, 2710
  Tavannes
TRANSP:OPAQUE
SEQUENCE:0
UID:17142-veranstaltung@par8.ch
DTSTAMP:20260304T103058Z
DESCRIPTION:Le culte sera suivi du traditionnel pic-nic dans le jardin de
  la paroisse\n\nKontakt: natacha.ingrosso@par8.ch\n\nWeitere Infos:
  https://www.par8.ch/veranstaltung/17142
SUMMARY:Culte de la communauté des sourds et malentendants
PRIORITY:5
X-MICROSOFT-CDO-IMPORTANCE:1
CLASS:PUBLIC
END:VEVENT
END:VCALENDAR
