BEGIN:VCALENDAR
PRODID:-//kirchenweb.ch gmbh//veranstaltungsausgabe v2.0//DE
VERSION:2.0
METHOD:PUBLISH
BEGIN:VEVENT
DTSTART:20260614T090000Z
DTEND:20260614T100000Z
LOCATION:Haute-Birse\, Eglise de Tavannes\, Rue du Petit-Bâle\, 2710
  Tavannes
TRANSP:OPAQUE
SEQUENCE:0
UID:17137-veranstaltung@par8.ch
DTSTAMP:20260325T084715Z
DESCRIPTION:Kontakt: natacha.ingrosso@par8.ch\n\nWeitere Infos:
  https://www.par8.ch/veranstaltung/17137
SUMMARY:Haute-Birse\, culte de la communauté des sourds en malentendants
PRIORITY:5
X-MICROSOFT-CDO-IMPORTANCE:1
CLASS:PUBLIC
END:VEVENT
END:VCALENDAR
