BEGIN:VCALENDAR
PRODID:-//kirchenweb.ch gmbh//veranstaltungsausgabe v2.0//DE
VERSION:2.0
METHOD:PUBLISH
BEGIN:VEVENT
DTSTART:20260503T060000Z
DTEND:20260503T210000Z
LOCATION:Haute-Birse\, Maison de Paroisse de Tavannes\, Rue du Petit-Bâle
  25\, 2710 Tavannes
TRANSP:OPAQUE
SEQUENCE:0
UID:17132-veranstaltung@par8.ch
DTSTAMP:20260304T093136Z
DESCRIPTION:Kontakt: Mme Moy Sandra\n\nWeitere Infos:
  https://www.par8.ch/veranstaltung/17132
SUMMARY:Haute-Birse\, location famille Moy
PRIORITY:5
X-MICROSOFT-CDO-IMPORTANCE:1
CLASS:PUBLIC
END:VEVENT
END:VCALENDAR
