BEGIN:VCALENDAR
PRODID:-//kirchenweb.ch gmbh//veranstaltungsausgabe v2.0//DE
VERSION:2.0
METHOD:PUBLISH
BEGIN:VEVENT
DTSTART:20260531T130000Z
DTEND:20260531T180000Z
LOCATION:Haute-Birse\, Eglise de Chaindon\, Route de Chaindon\, 2732
  Reconvilier
TRANSP:OPAQUE
SEQUENCE:0
UID:17127-veranstaltung@par8.ch
DTSTAMP:20260304T090557Z
DESCRIPTION:Kontakt: Mme Julie Pauchard\nGrand-Rue 17\n2520 La Neuveville
 \n079/546 42 36\n\nWeitere Infos: https://www.par8.ch/veranstaltung/17127
SUMMARY:Haute-Birse\, concert musique classique
PRIORITY:5
X-MICROSOFT-CDO-IMPORTANCE:1
CLASS:PUBLIC
END:VEVENT
END:VCALENDAR
