BEGIN:VCALENDAR
PRODID:-//kirchenweb.ch gmbh//veranstaltungsausgabe v2.0//DE
VERSION:2.0
METHOD:PUBLISH
BEGIN:VEVENT
DTSTART:20261022T173000Z
DTEND:20261022T200000Z
LOCATION:Court\, Salle de Paroisse\, La Cure 2\, 2738 Court
TRANSP:OPAQUE
SEQUENCE:0
UID:17120-veranstaltung@par8.ch
DTSTAMP:20260302T172622Z
DESCRIPTION:Kontakt: Brigitte Bueche\, 078 638 00 15\n\nWeitere Infos:
  https://www.par8.ch/veranstaltung/17120
SUMMARY:Groupe oecuménique
PRIORITY:5
X-MICROSOFT-CDO-IMPORTANCE:1
CLASS:PUBLIC
END:VEVENT
END:VCALENDAR
