BEGIN:VCALENDAR
PRODID:-//kirchenweb.ch gmbh//veranstaltungsausgabe v2.0//DE
VERSION:2.0
METHOD:PUBLISH
BEGIN:VEVENT
DTSTART:20260525T073000Z
DTEND:20260525T160000Z
LOCATION:Sornetan\, Salle de Paroisse\, Le Rondez 7\, 2716 Sornetan
TRANSP:OPAQUE
SEQUENCE:0
UID:17093-veranstaltung@par8.ch
DTSTAMP:20260220T111113Z
DESCRIPTION:Kontakt: sophie.juillerat@par8.ch\n\nWeitere Infos:
  https://www.par8.ch/veranstaltung/17093
SUMMARY:Repas solidaire
PRIORITY:5
X-MICROSOFT-CDO-IMPORTANCE:1
CLASS:PUBLIC
END:VEVENT
END:VCALENDAR
