BEGIN:VCALENDAR
PRODID:-//kirchenweb.ch gmbh//veranstaltungsausgabe v2.0//DE
VERSION:2.0
METHOD:PUBLISH
BEGIN:VEVENT
DTSTART:20260531T150000Z
DTEND:20260531T180000Z
LOCATION:Sornetan\, Eglise\, Village\, 2716 Sornetan
TRANSP:OPAQUE
SEQUENCE:0
UID:17092-veranstaltung@par8.ch
DTSTAMP:20260220T110559Z
DESCRIPTION:Kontakt: sophie.juillerat@par8.ch\n\nWeitere Infos:
  https://www.par8.ch/veranstaltung/17092
SUMMARY:Concert
PRIORITY:5
X-MICROSOFT-CDO-IMPORTANCE:1
CLASS:PUBLIC
END:VEVENT
END:VCALENDAR
