BEGIN:VCALENDAR
PRODID:-//kirchenweb.ch gmbh//veranstaltungsausgabe v2.0//DE
VERSION:2.0
METHOD:PUBLISH
BEGIN:VEVENT
DTSTART:20260409T163000Z
DTEND:20260409T190000Z
LOCATION:Moutier\, Le Foyer\, Rue du Clos 3\, 2740 Moutier
TRANSP:OPAQUE
SEQUENCE:0
UID:17061-veranstaltung@par8.ch
DTSTAMP:20260316T141125Z
DESCRIPTION:Groupe d'accompagnement pour les personnes endeuillées\n
 \nKontakt: Liliane Gujer\n\nWeitere Infos:
  https://www.par8.ch/veranstaltung/17061
SUMMARY:Moutier - Rencontre GAPE
PRIORITY:5
X-MICROSOFT-CDO-IMPORTANCE:1
CLASS:PUBLIC
END:VEVENT
END:VCALENDAR
