BEGIN:VCALENDAR
PRODID:-//kirchenweb.ch gmbh//veranstaltungsausgabe v2.0//DE
VERSION:2.0
METHOD:PUBLISH
BEGIN:VEVENT
DTSTART:20260402T070000Z
DTEND:20260402T080000Z
LOCATION:Bévilard\, Le Carillon\, \,
TRANSP:OPAQUE
SEQUENCE:0
UID:17051-veranstaltung@par8.ch
DTSTAMP:20260316T101536Z
DESCRIPTION:Vente d'oeufs teints en faveur de Terre Nouvelle\n\n\n
 \nKontakt: isabelle.girod@par8.ch\n\nWeitere Infos:
  https://www.par8.ch/veranstaltung/17051
SUMMARY:Bévilard - Vente d'oeufs teints
PRIORITY:5
X-MICROSOFT-CDO-IMPORTANCE:1
CLASS:PUBLIC
END:VEVENT
END:VCALENDAR
