BEGIN:VCALENDAR
PRODID:-//kirchenweb.ch gmbh//veranstaltungsausgabe v2.0//DE
VERSION:2.0
METHOD:PUBLISH
BEGIN:VEVENT
DTSTART:20260926T173000Z
DTEND:20260926T183000Z
LOCATION:Tramelan\, Eglise\, Grand-Rue 146\, 2720 Tramelan
TRANSP:OPAQUE
SEQUENCE:0
UID:17026-veranstaltung@par8.ch
DTSTAMP:20260219T101216Z
DESCRIPTION:Kontakt: Muggli Jan\, 079 755 91 41\n\nWeitere Infos:
  https://www.par8.ch/veranstaltung/17026
SUMMARY:Tramelan - Brass of Praise (Armée du Salut)- Concert
PRIORITY:5
X-MICROSOFT-CDO-IMPORTANCE:1
CLASS:PUBLIC
END:VEVENT
END:VCALENDAR
