BEGIN:VCALENDAR
PRODID:-//kirchenweb.ch gmbh//veranstaltungsausgabe v2.0//DE
VERSION:2.0
METHOD:PUBLISH
BEGIN:VEVENT
DTSTART:20260513T173000Z
DTEND:20260513T183000Z
LOCATION:Malleray\, Eglise catholique St Georges\, \, 2735 Malleray
TRANSP:OPAQUE
SEQUENCE:0
UID:16966-veranstaltung@par8.ch
DTSTAMP:20260202T074622Z
DESCRIPTION:Ces soirées sont organisées par les Eglises catholique et
  protestante de Malleray-Bévilard.\n\nBienvenue à chacune et à chacun.
 \n\nKontakt: isabelle.girod@par8.ch\n\nWeitere Infos:
  https://www.par8.ch/veranstaltung/16966
SUMMARY:Bévilard - Prière de Taizé
PRIORITY:5
X-MICROSOFT-CDO-IMPORTANCE:1
CLASS:PUBLIC
END:VEVENT
END:VCALENDAR
