BEGIN:VCALENDAR
PRODID:-//kirchenweb.ch gmbh//veranstaltungsausgabe v2.0//DE
VERSION:2.0
METHOD:PUBLISH
BEGIN:VEVENT
DTSTART:20261107T103000Z
DTEND:20261107T113000Z
LOCATION:Tramelan\, Eglise\, Grand-Rue 146\, 2720 Tramelan
TRANSP:OPAQUE
SEQUENCE:0
UID:16952-veranstaltung@par8.ch
DTSTAMP:20260128T091228Z
DESCRIPTION:Kontakt: CSJ\, Tatiana Vuilleumier\, 032 485 70 02\n\nWeitere
  Infos: https://www.par8.ch/veranstaltung/16952
SUMMARY:Culte synodal
PRIORITY:5
X-MICROSOFT-CDO-IMPORTANCE:1
CLASS:PUBLIC
END:VEVENT
END:VCALENDAR
