BEGIN:VCALENDAR
PRODID:-//kirchenweb.ch gmbh//veranstaltungsausgabe v2.0//DE
VERSION:2.0
METHOD:PUBLISH
BEGIN:VEVENT
DTSTART:20261219T160000Z
DTEND:20261219T190000Z
LOCATION:Court\, Eglise\, Rue du Temple\, 2738 Court
TRANSP:OPAQUE
SEQUENCE:0
UID:16886-veranstaltung@par8.ch
DTSTAMP:20260126T154451Z
DESCRIPTION:Concert de l'Avent. Les infos suivront\n\nKontakt: Fanny
  Känzig\n\nWeitere Infos: https://www.par8.ch/veranstaltung/16886
SUMMARY:Court\, concert de Fanny Känzig
PRIORITY:5
X-MICROSOFT-CDO-IMPORTANCE:1
CLASS:PUBLIC
END:VEVENT
END:VCALENDAR
