BEGIN:VCALENDAR
PRODID:-//kirchenweb.ch gmbh//veranstaltungsausgabe v2.0//DE
VERSION:2.0
METHOD:PUBLISH
BEGIN:VEVENT
DTSTART:20260504T060000Z
DTEND:20260504T063000Z
LOCATION:Bévilard\, Temple\, Rue du Temple\, 2735 Bévilard
TRANSP:OPAQUE
SEQUENCE:0
UID:16771-veranstaltung@par8.ch
DTSTAMP:20260114T083802Z
DESCRIPTION:Débuter la semaine en prière et avec d'autres... Accueillir
  la présence de Dieu et s'accueillir les uns les autres...\n\nProgramme
  à télécharger : \n\nKontakt: Jean-Luc Dubigny\n\nWeitere Infos:
  https://www.par8.ch/veranstaltung/16771
SUMMARY:Bévilard - Méditation du lundi matin
PRIORITY:5
X-MICROSOFT-CDO-IMPORTANCE:1
CLASS:PUBLIC
END:VEVENT
END:VCALENDAR
