BEGIN:VCALENDAR
PRODID:-//kirchenweb.ch gmbh//veranstaltungsausgabe v2.0//DE
VERSION:2.0
METHOD:PUBLISH
BEGIN:VEVENT
DTSTART:20270122T173000Z
DTEND:20270122T223000Z
LOCATION:Tramelan\, Centre paroissial \, Grand-Rue 146a\,  Tramelan
TRANSP:OPAQUE
SEQUENCE:0
UID:16651-veranstaltung@par8.ch
DTSTAMP:20260408T092142Z
DESCRIPTION:Temps de reconnaissance adressé aux bénévoles agrémenté
  d'un souper offert\n\nKontakt: Evelyne Hiltbrand\n\nWeitere Infos:
  https://www.par8.ch/veranstaltung/16651
SUMMARY:Tramelan - Souper des bénévoles
PRIORITY:5
X-MICROSOFT-CDO-IMPORTANCE:1
CLASS:PUBLIC
END:VEVENT
END:VCALENDAR
