BEGIN:VCALENDAR
PRODID:-//kirchenweb.ch gmbh//veranstaltungsausgabe v2.0//DE
VERSION:2.0
METHOD:PUBLISH
BEGIN:VEVENT
DTSTART:20260420T160000Z
DTEND:20260420T183000Z
LOCATION:Haute-Birse\, Maison de Paroisse de Tavannes\, Rue du Petit-Bâle
  25\, 2710 Tavannes
TRANSP:OPAQUE
SEQUENCE:0
UID:16544-veranstaltung@par8.ch
DTSTAMP:20260407T115442Z
DESCRIPTION:Le syndicat de paroisses Par8 a le plaisir de vous proposer
  son activité « Espaces en mouvement »\, une série d’ateliers de
  danse africaine et de rencontres interculturelles\, animés par Dedou
  Sanogo et ses musiciens\, entre mars et novembre 2026.\n\nEn
  collaboration avec les paroisses réformées de Moutier et de Haute-Birse
  et né d’une première expérience marquante\, ce projet a révélé la
  force du mouvement et du rythme comme espaces de rencontre\, où les
  différences s’effacent au profit du partage et de la joie.\n\nLes
  ateliers sont ouverts à toutes et tous\, sans prérequis\, et se
  déroulent de 18h30 à 20h. Le premier cours suivi est gratuit\, puis la
  participation est de CHF 10.–- par séance\, à régler sur place (cash
  ou Twint).\n\nLes participant·es sont accompagné·es avec attention et
  bienveillance par Laminé\, le danseur. Chaque personne est vraiment
  libre d'aller à son propre rythme. Dans cette optique\, ce cours de
  danse est ouvert à tous les âges sans distinction. De plus\, les deux
  salles sont accessibles aux personnes à mobilité réduite. Tout le
  monde est donc grandement la bienvenue à venir s'amuser\, bouger et
  rencontrer. \n\nLe projet se clôturera par une soirée festive ouverte
  à toutes et tous le samedi 28 novembre à Moutier\, moment convivial de
  danse\, de musique et de rencontre. \n\nDates : \n\nMoutier\, Foyer\, rue
  du Clos 3\nLes mardis de 18h30 à 20h00\, (3\, 10\, 24 et 31 mars ; 2\, 9
  et 16 juin ; 22 et 29 septembre ; 20 octobre).\n\nTavannes\, Maison de
  paroisse\, rue du Petit-Bâle 25\nLes lundis et/ou mardis de 18h30 à
  20h00 (20 et 27 avril ; 11 et 18 mai ; 24 et 31 août ; 7 septembre ; 3\,
  10 et 17 novembre).\n\n\nKontakt: Lucas Goffinet\n\nWeitere Infos:
  https://www.par8.ch/veranstaltung/16544
SUMMARY:Espaces en mouvement. Ateliers de danse africaine et rencontres
  interculturelles
PRIORITY:5
X-MICROSOFT-CDO-IMPORTANCE:1
CLASS:PUBLIC
END:VEVENT
END:VCALENDAR
