BEGIN:VCALENDAR
PRODID:-//kirchenweb.ch gmbh//veranstaltungsausgabe v2.0//DE
VERSION:2.0
METHOD:PUBLISH
BEGIN:VEVENT
DTSTART:20260615T173000Z
DTEND:20260615T193000Z
LOCATION:Grandval\, Salle de Paroisse\, \,
TRANSP:OPAQUE
SEQUENCE:0
UID:16461-veranstaltung@par8.ch
DTSTAMP:20251209T070517Z
DESCRIPTION:Kontakt: Liliane Gujer\n\nWeitere Infos:
  https://www.par8.ch/veranstaltung/16461
SUMMARY:A la découverte de l'apôtre Paul
PRIORITY:5
X-MICROSOFT-CDO-IMPORTANCE:1
CLASS:PUBLIC
END:VEVENT
END:VCALENDAR
