BEGIN:VCALENDAR
PRODID:-//kirchenweb.ch gmbh//veranstaltungsausgabe v2.0//DE
VERSION:2.0
METHOD:PUBLISH
BEGIN:VEVENT
DTSTART:20260511T173000Z
DTEND:20260511T193000Z
LOCATION:Moutier\, Le Foyer\, Rue du Clos 3\, 2740 Moutier
TRANSP:OPAQUE
SEQUENCE:0
UID:16453-veranstaltung@par8.ch
DTSTAMP:20251208T090102Z
DESCRIPTION:Kontakt: Liliane Gujer\n079 852 14 64\n\nWeitere Infos:
  https://www.par8.ch/veranstaltung/16453
SUMMARY:Etude Biblique sur l'apôtre Paul
PRIORITY:5
X-MICROSOFT-CDO-IMPORTANCE:1
CLASS:PUBLIC
END:VEVENT
END:VCALENDAR
