BEGIN:VCALENDAR
PRODID:-//kirchenweb.ch gmbh//veranstaltungsausgabe v2.0//DE
VERSION:2.0
METHOD:PUBLISH
BEGIN:VEVENT
DTSTART:20260512T120000Z
DTEND:20260512T143000Z
LOCATION:Bévilard\, Salle de Paroisse\, Les Côtes 1\, 2735 Bévilard
TRANSP:OPAQUE
SEQUENCE:0
UID:16433-veranstaltung@par8.ch
DTSTAMP:20260326T135424Z
DESCRIPTION:En chemin... avec Nadège Jufer.\n\n\n
 \nhttps://www.par8.ch/bevilard_aines\n\nKontakt: isabelle.girod@par8.ch\n
 \nWeitere Infos: https://www.par8.ch/veranstaltung/16433
SUMMARY:Bévilard - Rencontre des ainés
PRIORITY:5
X-MICROSOFT-CDO-IMPORTANCE:1
CLASS:PUBLIC
END:VEVENT
END:VCALENDAR
