BEGIN:VCALENDAR
PRODID:-//kirchenweb.ch gmbh//veranstaltungsausgabe v2.0//DE
VERSION:2.0
METHOD:PUBLISH
BEGIN:VEVENT
DTSTART:20261022T170000Z
DTEND:20261022T180000Z
LOCATION:Bévilard\, Salle de Paroisse\, \,
TRANSP:OPAQUE
SEQUENCE:0
UID:16274-veranstaltung@par8.ch
DTSTAMP:20251117T075318Z
DESCRIPTION:Le choeur Allegretto répète tous les jeudis à 19h à la
  cure de Bévilard. Toute personne est bienvenue\, de quelle confession
  que ce soit\, pour un essai ou plus !\n\nKontakt: isabelle.girod@par8.ch
 \n\nWeitere Infos: https://www.par8.ch/veranstaltung/16274
SUMMARY:Bévilard - Répétition du choeur Allegretto
PRIORITY:5
X-MICROSOFT-CDO-IMPORTANCE:1
CLASS:PUBLIC
END:VEVENT
END:VCALENDAR
