BEGIN:VCALENDAR
PRODID:-//kirchenweb.ch gmbh//veranstaltungsausgabe v2.0//DE
VERSION:2.0
METHOD:PUBLISH
BEGIN:VEVENT
DTSTART:20260617T170000Z
DTEND:20260617T203000Z
LOCATION:Tramelan\, Centre paroissial\, Grand-Rue 146a\, 2720 Tramelan
TRANSP:OPAQUE
SEQUENCE:0
UID:16196-veranstaltung@par8.ch
DTSTAMP:20260224T103916Z
DESCRIPTION:Séance du Conseil de paroisse de Tramelan\n\nKontakt: Evelyne
  Hiltbrand\n\nWeitere Infos: https://www.par8.ch/veranstaltung/16196
SUMMARY:Tramelan - Séance du Conseil de Paroisse
PRIORITY:5
X-MICROSOFT-CDO-IMPORTANCE:1
CLASS:PUBLIC
END:VEVENT
END:VCALENDAR
