BEGIN:VCALENDAR
PRODID:-//kirchenweb.ch gmbh//veranstaltungsausgabe v2.0//DE
VERSION:2.0
METHOD:PUBLISH
BEGIN:VEVENT
DTSTART:20260429T170000Z
DTEND:20260429T203000Z
LOCATION:Tramelan\, Centre paroissial\, Grand-Rue 146a\, 2720 Tramelan
TRANSP:OPAQUE
SEQUENCE:0
UID:16195-veranstaltung@par8.ch
DTSTAMP:20260224T103907Z
DESCRIPTION:Séance du Conseil de paroisse de Tramelan\n\nKontakt: Evelyne
  Hiltbrand\n\nWeitere Infos: https://www.par8.ch/veranstaltung/16195
SUMMARY:Tramelan - Séance du Conseil de Paroisse
PRIORITY:5
X-MICROSOFT-CDO-IMPORTANCE:1
CLASS:PUBLIC
END:VEVENT
END:VCALENDAR
