BEGIN:VCALENDAR
PRODID:-//kirchenweb.ch gmbh//veranstaltungsausgabe v2.0//DE
VERSION:2.0
METHOD:PUBLISH
BEGIN:VEVENT
DTSTART:20260422T130000Z
DTEND:20260422T150000Z
LOCATION:Bévilard\, Le Carillon\, Grand Rue\, 2735 Malleray
TRANSP:OPAQUE
SEQUENCE:0
UID:16172-veranstaltung@par8.ch
DTSTAMP:20251106T100713Z
DESCRIPTION:Rencontre café-contact au Carillon\n\nKontakt:
  isabelle.girod@par8.ch\n\nWeitere Infos:
  https://www.par8.ch/veranstaltung/16172
SUMMARY:Bévilard - Café-contact
PRIORITY:5
X-MICROSOFT-CDO-IMPORTANCE:1
CLASS:PUBLIC
END:VEVENT
END:VCALENDAR
