BEGIN:VCALENDAR
PRODID:-//kirchenweb.ch gmbh//veranstaltungsausgabe v2.0//DE
VERSION:2.0
METHOD:PUBLISH
BEGIN:VEVENT
DTSTART:20260420T093000Z
DTEND:20260420T143000Z
LOCATION:Court\, Salle de Paroisse\, La Cure 2\, 2738 Court
TRANSP:OPAQUE
SEQUENCE:0
UID:16082-veranstaltung@par8.ch
DTSTAMP:20251021T150947Z
DESCRIPTION:Kontakt: Muriel Howald\, 079 910 58 83\nCatherine Frei\, 079
  519 17 48\n\nWeitere Infos: https://www.par8.ch/veranstaltung/16082
SUMMARY:Court\, programme d'animation - Cure
PRIORITY:5
X-MICROSOFT-CDO-IMPORTANCE:1
CLASS:PUBLIC
END:VEVENT
END:VCALENDAR
