BEGIN:VCALENDAR
PRODID:-//kirchenweb.ch gmbh//veranstaltungsausgabe v2.0//DE
VERSION:2.0
METHOD:PUBLISH
BEGIN:VEVENT
DTSTART:20260428T173000Z
DTEND:20260428T181500Z
LOCATION:Tramelan\, Eglise catholique\, Grand-Rue 110\, 2720 Tramelan
TRANSP:OPAQUE
SEQUENCE:0
UID:15956-veranstaltung@par8.ch
DTSTAMP:20260316T132712Z
DESCRIPTION:Une parenthèse en chant et en silence pour se ressourcer dans
  la communion avec les chrétiens de Tramelan.\n\n\nKontakt: Jean-Louis
  Crétin\, 077 460 91 48\n\nWeitere Infos:
  https://www.par8.ch/veranstaltung/15956
SUMMARY:Tramelan - Prière à la manière de Taizé
PRIORITY:5
X-MICROSOFT-CDO-IMPORTANCE:1
CLASS:PUBLIC
END:VEVENT
END:VCALENDAR
