BEGIN:VCALENDAR
PRODID:-//kirchenweb.ch gmbh//veranstaltungsausgabe v2.0//DE
VERSION:2.0
METHOD:PUBLISH
BEGIN:VEVENT
DTSTART:20260523T063000Z
DTEND:20260523T150000Z
LOCATION:Moutier\, Collégiale St Germain\, Ruelle du Château\, 2740
  Moutier
TRANSP:OPAQUE
SEQUENCE:0
UID:15877-veranstaltung@par8.ch
DTSTAMP:20250826T090335Z
DESCRIPTION:Kontakt: Quentin Jeanneret\nMylène Schaer\n\nWeitere Infos:
  https://www.par8.ch/veranstaltung/15877
SUMMARY:Caté 11H - Module de confirmation - Journée Evasion
PRIORITY:5
X-MICROSOFT-CDO-IMPORTANCE:1
CLASS:PUBLIC
END:VEVENT
END:VCALENDAR
