BEGIN:VCALENDAR
PRODID:-//kirchenweb.ch gmbh//veranstaltungsausgabe v2.0//DE
VERSION:2.0
METHOD:PUBLISH
BEGIN:VEVENT
DTSTART:20260603T163000Z
DTEND:20260603T183000Z
LOCATION:Haute-Birse\, Salle de Paroisse\, Rue Bel-Air 11\, 2732
  Reconvilier
TRANSP:OPAQUE
SEQUENCE:0
UID:15869-veranstaltung@par8.ch
DTSTAMP:20250826T084637Z
DESCRIPTION:Plus d'informations suivront\n\nKontakt: Quentin Jeanneret
 \nMylène Schaer\n\nWeitere Infos: https://www.par8.ch/veranstaltung/15869
SUMMARY:Caté 11H - Fête Finale
PRIORITY:5
X-MICROSOFT-CDO-IMPORTANCE:1
CLASS:PUBLIC
END:VEVENT
END:VCALENDAR
