BEGIN:VCALENDAR
PRODID:-//kirchenweb.ch gmbh//veranstaltungsausgabe v2.0//DE
VERSION:2.0
METHOD:PUBLISH
BEGIN:VEVENT
DTSTART;VALUE=DATE:20260614
DTEND;VALUE=DATE:20260615
LOCATION:A définir\, \,
TRANSP:OPAQUE
SEQUENCE:0
UID:15859-veranstaltung@par8.ch
DTSTAMP:20250826T083631Z
DESCRIPTION:Quelles sont les raisons de se lever et protester de nos jours
  ?\n\nKontakt: Quentin Jeanneret\nMylène Schaer\nThierry Dominicé\n
 \nWeitere Infos: https://www.par8.ch/veranstaltung/15859
SUMMARY:Caté 10H - Protester
PRIORITY:5
X-MICROSOFT-CDO-IMPORTANCE:1
CLASS:PUBLIC
END:VEVENT
END:VCALENDAR
