BEGIN:VCALENDAR
PRODID:-//kirchenweb.ch gmbh//veranstaltungsausgabe v2.0//DE
VERSION:2.0
METHOD:PUBLISH
BEGIN:VEVENT
DTSTART;VALUE=DATE:20260516
DTEND;VALUE=DATE:20260517
LOCATION:A définir\, \,
TRANSP:OPAQUE
SEQUENCE:0
UID:15857-veranstaltung@par8.ch
DTSTAMP:20250826T083517Z
DESCRIPTION:Départ jeudi matin\, retour dimanche en milieu d'après-midi
 \n\nKontakt: Quentin Jeanneret\nMylène Schaer\nThierry Dominicé\n
 \nWeitere Infos: https://www.par8.ch/veranstaltung/15857
SUMMARY:Caté 10H - Camp
PRIORITY:5
X-MICROSOFT-CDO-IMPORTANCE:1
CLASS:PUBLIC
END:VEVENT
END:VCALENDAR
