BEGIN:VCALENDAR
PRODID:-//kirchenweb.ch gmbh//veranstaltungsausgabe v2.0//DE
VERSION:2.0
METHOD:PUBLISH
BEGIN:VEVENT
DTSTART:20260404T220000Z
DTEND:20260405T063000Z
LOCATION:A définir\, \,
TRANSP:OPAQUE
SEQUENCE:0
UID:15852-veranstaltung@par8.ch
DTSTAMP:20260218T091852Z
DESCRIPTION:Kontakt: Quentin Jeanneret\nMylène Schaer\nThierry Dominicé
 \n\nWeitere Infos: https://www.par8.ch/veranstaltung/15852
SUMMARY:Caté 10H - Nuits de Pâques
PRIORITY:5
X-MICROSOFT-CDO-IMPORTANCE:1
CLASS:PUBLIC
END:VEVENT
END:VCALENDAR
