BEGIN:VCALENDAR
PRODID:-//kirchenweb.ch gmbh//veranstaltungsausgabe v2.0//DE
VERSION:2.0
METHOD:PUBLISH
BEGIN:VEVENT
DTSTART:20260404T163000Z
DTEND:20260404T215900Z
LOCATION:Tramelan\, Centre paroissial\, Grand-Rue 146a\, 2720 Tramelan
TRANSP:OPAQUE
SEQUENCE:0
UID:15851-veranstaltung@par8.ch
DTSTAMP:20260402T135717Z
DESCRIPTION:Kontakt: Quentin Jeanneret\n\nWeitere Infos:
  https://www.par8.ch/veranstaltung/15851
SUMMARY:Caté 10H - Nuits de Pâques
PRIORITY:5
X-MICROSOFT-CDO-IMPORTANCE:1
CLASS:PUBLIC
END:VEVENT
END:VCALENDAR
