BEGIN:VCALENDAR
PRODID:-//kirchenweb.ch gmbh//veranstaltungsausgabe v2.0//DE
VERSION:2.0
METHOD:PUBLISH
BEGIN:VEVENT
DTSTART:20260620T073000Z
DTEND:20260620T090000Z
LOCATION:2745 Grandval\, Rue de l'Eglise 13\, 2745 Grandval
TRANSP:OPAQUE
SEQUENCE:0
UID:15843-veranstaltung@par8.ch
DTSTAMP:20250821T075945Z
DESCRIPTION:Kontakt: Jean-Luc Dubigny\nLiliane Gujer\n\nWeitere Infos:
  https://www.par8.ch/veranstaltung/15843
SUMMARY:Eveil à la foi
PRIORITY:5
X-MICROSOFT-CDO-IMPORTANCE:1
CLASS:PUBLIC
END:VEVENT
END:VCALENDAR
