BEGIN:VCALENDAR
PRODID:-//kirchenweb.ch gmbh//veranstaltungsausgabe v2.0//DE
VERSION:2.0
METHOD:PUBLISH
BEGIN:VEVENT
DTSTART;VALUE=DATE:20260513
DTEND;VALUE=DATE:20260514
LOCATION:informations suivront\, \,
TRANSP:OPAQUE
SEQUENCE:0
UID:15712-veranstaltung@par8.ch
DTSTAMP:20250808T124956Z
DESCRIPTION:Camp de confirmation \nDu mercredi 13 mai au dimanche 17 mai
  2026\n\nLes informations suivront \n\nKontakt: Aline Gagnebin\n\nThierry
  Dominicé\n\nWeitere Infos: https://www.par8.ch/veranstaltung/15712
SUMMARY:Caté 11H Tramelan - Haute-Birse - Sornetan
PRIORITY:5
X-MICROSOFT-CDO-IMPORTANCE:1
CLASS:PUBLIC
END:VEVENT
END:VCALENDAR
