BEGIN:VCALENDAR
PRODID:-//kirchenweb.ch gmbh//veranstaltungsausgabe v2.0//DE
VERSION:2.0
METHOD:PUBLISH
BEGIN:VEVENT
DTSTART:20260506T150000Z
DTEND:20260506T170000Z
LOCATION:Tramelan\, Centre paroissial\, Grand-Rue 146a\, 2720 Tramelan
TRANSP:OPAQUE
SEQUENCE:0
UID:15708-veranstaltung@par8.ch
DTSTAMP:20250808T123511Z
DESCRIPTION:Nous nous réjouissons vivement de vivre cette aventure caté
  avec votre jeune. Voici toutes les informations nécessaires : \n
 \nADRESSES ET LIEUX DES RENCONTRES\nCentre paroissial\, Grand-Rue 146\,
  2720 Tramelan \nCure Bel-Air\, Rue de Bel-Air 11\, 2732 Reconvilier 
 \nEglise de Tramelan\, Grand-Rue 146\, 2720 Tramelan \nEglise de
  Chaindon\, Route de Chaindon\, 2732 Reconvilier \n\nABSENCES :\nEn cas
  d’absence\, MERCI d’avertir l’un-e des responsables.\n\nKontakt:
  Aline Gagnebin\n\nThierry Dominicé\n\nWeitere Infos:
  https://www.par8.ch/veranstaltung/15708
SUMMARY:Caté 11H Tramelan - Haute-Birse - Sornetan
PRIORITY:5
X-MICROSOFT-CDO-IMPORTANCE:1
CLASS:PUBLIC
END:VEVENT
END:VCALENDAR
