BEGIN:VCALENDAR
PRODID:-//kirchenweb.ch gmbh//veranstaltungsausgabe v2.0//DE
VERSION:2.0
METHOD:PUBLISH
BEGIN:VEVENT
DTSTART:20260509T070000Z
DTEND:20260509T120000Z
LOCATION:Tramelan\, Centre paroissial\, Grand-Rue 146a\, 2720 Tramelan
TRANSP:OPAQUE
SEQUENCE:0
UID:15683-veranstaltung@par8.ch
DTSTAMP:20260407T123640Z
DESCRIPTION:Rencontre de catéchisme. Ces séquences proposées par notre
  paroisse\, permettent aux jeunes d’acquérir un esprit ouvert mais
  aussi critique sur le monde d’aujourd’hui\, c’est une dimension
  supplémentaire dans leur cheminement. Des bénévoles\, des
  catéchètes\, des pasteurs sont spécialement formés pour les entourer
  et les accompagner. La rencontre est suivie d'une célébration
  intergénérationnelle et suivie d'un repas.\n\nKontakt: Caroline Witschi
 \n\nWeitere Infos: https://www.par8.ch/veranstaltung/15683
SUMMARY:Tramelan - Caté Cycle 1
PRIORITY:5
X-MICROSOFT-CDO-IMPORTANCE:1
CLASS:PUBLIC
END:VEVENT
END:VCALENDAR
