BEGIN:VCALENDAR
PRODID:-//kirchenweb.ch gmbh//veranstaltungsausgabe v2.0//DE
VERSION:2.0
METHOD:PUBLISH
BEGIN:VEVENT
DTSTART:20261227T090000Z
DTEND:20261227T100000Z
LOCATION:Tramelan\, Eglise\, Grand-Rue 146\, 2720 Tramelan
TRANSP:OPAQUE
SEQUENCE:0
UID:15667-veranstaltung@par8.ch
DTSTAMP:20251210T143628Z
DESCRIPTION:Kontakt: Service de taxi depuis Tramelan : appel le jour même
  entre 8h et 9h au \n\nWeitere Infos:
  https://www.par8.ch/veranstaltung/15667
SUMMARY:Culte Par8 à l'église de Tramelan
PRIORITY:5
X-MICROSOFT-CDO-IMPORTANCE:1
CLASS:PUBLIC
END:VEVENT
END:VCALENDAR
