BEGIN:VCALENDAR
PRODID:-//kirchenweb.ch gmbh//veranstaltungsausgabe v2.0//DE
VERSION:2.0
METHOD:PUBLISH
BEGIN:VEVENT
DTSTART:20261225T090000Z
DTEND:20261225T100000Z
LOCATION:Haute-Birse\, Eglise de Chaindon\, Route de Chaindon\, 2732
  Reconvilier
TRANSP:OPAQUE
SEQUENCE:0
UID:15664-veranstaltung@par8.ch
DTSTAMP:20260227T075218Z
DESCRIPTION:Kontakt: Thierry Dominicé\n\nWeitere Infos:
  https://www.par8.ch/veranstaltung/15664
SUMMARY:Culte de Noël au temple de Chaindon
PRIORITY:5
X-MICROSOFT-CDO-IMPORTANCE:1
CLASS:PUBLIC
END:VEVENT
END:VCALENDAR
