BEGIN:VCALENDAR
PRODID:-//kirchenweb.ch gmbh//veranstaltungsausgabe v2.0//DE
VERSION:2.0
METHOD:PUBLISH
BEGIN:VEVENT
DTSTART:20261225T090000Z
DTEND:20261225T100000Z
LOCATION:Sornetan\, Eglise\, Village\, 2716 Sornetan
TRANSP:OPAQUE
SEQUENCE:0
UID:15663-veranstaltung@par8.ch
DTSTAMP:20251210T143458Z
DESCRIPTION:Kontakt: Service de taxi depuis Tramelan : appel le jour même
  entre 8h et 9h au \n\nWeitere Infos:
  https://www.par8.ch/veranstaltung/15663
SUMMARY:Culte de Noël au temple de Sornetan
PRIORITY:5
X-MICROSOFT-CDO-IMPORTANCE:1
CLASS:PUBLIC
END:VEVENT
END:VCALENDAR
