BEGIN:VCALENDAR
PRODID:-//kirchenweb.ch gmbh//veranstaltungsausgabe v2.0//DE
VERSION:2.0
METHOD:PUBLISH
BEGIN:VEVENT
DTSTART:20261224T220000Z
DTEND:20261224T225900Z
LOCATION:Moutier\, Collégiale St Germain\, Ruelle du Château\, 2740
  Moutier
TRANSP:OPAQUE
SEQUENCE:0
UID:15662-veranstaltung@par8.ch
DTSTAMP:20260127T154038Z
DESCRIPTION:Kontakt: Quentin Jeanneret\n\nWeitere Infos:
  https://www.par8.ch/veranstaltung/15662
SUMMARY:Culte de Noël à la Collégiale de Moutier
PRIORITY:5
X-MICROSOFT-CDO-IMPORTANCE:1
CLASS:PUBLIC
END:VEVENT
END:VCALENDAR
