BEGIN:VCALENDAR
PRODID:-//kirchenweb.ch gmbh//veranstaltungsausgabe v2.0//DE
VERSION:2.0
METHOD:PUBLISH
BEGIN:VEVENT
DTSTART:20261224T220000Z
DTEND:20261224T225900Z
LOCATION:Haute-Birse\, Eglise de Tavannes\, Rue du Petit-Bâle\, 2710
  Tavannes
TRANSP:OPAQUE
SEQUENCE:0
UID:15660-veranstaltung@par8.ch
DTSTAMP:20260311T094451Z
DESCRIPTION:Kontakt: Sandra Singh\n\nWeitere Infos:
  https://www.par8.ch/veranstaltung/15660
SUMMARY:Culte de Noël à l'église de Tavannes
PRIORITY:5
X-MICROSOFT-CDO-IMPORTANCE:1
CLASS:PUBLIC
END:VEVENT
END:VCALENDAR
