BEGIN:VCALENDAR
PRODID:-//kirchenweb.ch gmbh//veranstaltungsausgabe v2.0//DE
VERSION:2.0
METHOD:PUBLISH
BEGIN:VEVENT
DTSTART:20261220T090000Z
DTEND:20261220T100000Z
LOCATION:Court\, Eglise\, Rue du Temple\, 2738 Court
TRANSP:OPAQUE
SEQUENCE:0
UID:15657-veranstaltung@par8.ch
DTSTAMP:20260128T085500Z
DESCRIPTION:Kontakt: Jean-Luc Dubigny\n\nWeitere Infos:
  https://www.par8.ch/veranstaltung/15657
SUMMARY:Culte de Noël du cycle 1 au temple de Bévilard
PRIORITY:5
X-MICROSOFT-CDO-IMPORTANCE:1
CLASS:PUBLIC
END:VEVENT
END:VCALENDAR
