BEGIN:VCALENDAR
PRODID:-//kirchenweb.ch gmbh//veranstaltungsausgabe v2.0//DE
VERSION:2.0
METHOD:PUBLISH
BEGIN:VEVENT
DTSTART:20261220T083000Z
DTEND:20261220T093000Z
LOCATION:Haute-Birse\, Eglise de Chaindon\, Route de Chaindon\, 2732
  Reconvilier
TRANSP:OPAQUE
SEQUENCE:0
UID:15656-veranstaltung@par8.ch
DTSTAMP:20260227T074714Z
DESCRIPTION:4ème dimanche de l'Avent\n\nKontakt: modeles.communs@par8.ch
 \n\nWeitere Infos: https://www.par8.ch/veranstaltung/15656
SUMMARY:Culte à l'église de Chaindon
PRIORITY:5
X-MICROSOFT-CDO-IMPORTANCE:1
CLASS:PUBLIC
END:VEVENT
END:VCALENDAR
